BEGIN:VCALENDAR
VERSION:2.0
CALSCALE:GREGORIAN
PRODID:-//Diputació de Barcelona//DibaCMS//EN
BEGIN:VEVENT
UID:5706
DTSTAMP:20260423T015214
DTSTART:20130111T000000
DTEND:20140111T000000
SUMMARY:L'any 2012 es van comptabilitzar 279 donacions de sang a la Llagosta
LOCATION:
METHOD:PUBLISH
X-WR-CALNAME:llagosta@llagosta.cat
X-WR-TIMEZONE:Europe/Madrid
DESCRIPTION:El Banc de Sang va aconseguir l'any passat 279 donacions en les cinc captacions que va fer a la Llagosta. El 2011 en van ser 308. Aquesta reducció s'explica en part per la fluixa resposta que va tenir la primera captació del 2012, el mes de gener, quan només es van registrar nou donacions.
URI:https://www.llagosta.cat/actualitat/noticies/lany-2012-es-van-comptabilitzar-279-donacions-de-sang-a-la-llagosta.html
CLASS:PUBLIC
END:VEVENT
END:VCALENDAR
