BEGIN:VCALENDAR
VERSION:2.0
CALSCALE:GREGORIAN
PRODID:-//Diputació de Barcelona//DibaCMS//EN
BEGIN:VEVENT
UID:5705
DTSTAMP:20260423T091737
DTSTART:20130110T000000
DTEND:20140101T000000
SUMMARY:El grup de teatre TELL de la Llagosta obre la inscripció per participar en la seva escola
LOCATION:
METHOD:PUBLISH
X-WR-CALNAME:llagosta@llagosta.cat
X-WR-TIMEZONE:Europe/Madrid
DESCRIPTION:El grup de teatre TELL de la nostra localitat ha posat en marxa una nova iniciativa, l'Escola de Teatre TELL. L'escola funciona a la tercera planta del número 12 del carrer de Sant Miquel, al Centre Parroquial, i està oberta a infants, joves i grans. 
URI:https://www.llagosta.cat/actualitat/noticies/el-grup-de-teatre-tell-de-la-llagosta-obre-la-inscripcio-per-participar-en-la-seva-escola.html
CLASS:PUBLIC
END:VEVENT
END:VCALENDAR
