BEGIN:VCALENDAR
VERSION:2.0
CALSCALE:GREGORIAN
PRODID:-//Diputació de Barcelona//DibaCMS//EN
BEGIN:VEVENT
UID:5704
DTSTAMP:20260423T120623
DTSTART:20130110T000000
DTEND:20140110T000000
SUMMARY:El primer equip de l'Esportiu Bàsquet Club jugarà el cap de setmana a Roda
LOCATION:
METHOD:PUBLISH
X-WR-CALNAME:llagosta@llagosta.cat
X-WR-TIMEZONE:Europe/Madrid
DESCRIPTION:El primer equip de l'Esportiu Bàsquet Club de la Llagosta iniciarà l'any jugant a la pista del Roda. Els de la nostra localitat es desplaçaran al terreny de joc d'un dels seus principals rivals a la competició. Tots dos conjunts estan empatats a 20 punts.
URI:https://www.llagosta.cat/actualitat/noticies/el-primer-equip-de-lesportiu-basquet-club-jugara-el-cap-de-setmana-a-roda.html
CLASS:PUBLIC
END:VEVENT
END:VCALENDAR
