BEGIN:VCALENDAR
VERSION:2.0
CALSCALE:GREGORIAN
PRODID:-//Diputació de Barcelona//DibaCMS//EN
BEGIN:VEVENT
UID:5703
DTSTAMP:20260423T091941
DTSTART:20130110T000000
DTEND:20140110T000000
SUMMARY:El sènior del Vallag torna als entrenaments però no jugarà fins al 27 de gener
LOCATION:
METHOD:PUBLISH
X-WR-CALNAME:llagosta@llagosta.cat
X-WR-TIMEZONE:Europe/Madrid
DESCRIPTION:El sènior de l'Handbol Club Vallag de la Llagosta ja ha reprès els entrenaments després de les festes de Nadal. L'equip llagostenc no jugarà el proper partit fins al 27 de gener i està aprofitant aquests dies per preparar la segona fase del campionat.
URI:https://www.llagosta.cat/actualitat/noticies/el-senior-del-vallag-torna-als-entrenaments-pero-no-jugara-fins-al-27-de-gener.html
CLASS:PUBLIC
END:VEVENT
END:VCALENDAR
