BEGIN:VCALENDAR
VERSION:2.0
CALSCALE:GREGORIAN
PRODID:-//Diputació de Barcelona//DibaCMS//EN
BEGIN:VEVENT
UID:5702
DTSTAMP:20260423T095726
DTSTART:20130110T000000
DTEND:20140110T000000
SUMMARY:Antonio García comença demà amb Espanya el Campionat del Món contra Algèria
LOCATION:
METHOD:PUBLISH
X-WR-CALNAME:llagosta@llagosta.cat
X-WR-TIMEZONE:Europe/Madrid
DESCRIPTION:El llagostenc Antonio García jugarà demà amb la selecció espanyola absoluta d'handbol el primer partit del Campionat del Món, que es disputarà a Espanya fins al 27 de gener. En aquest primer enfrontament, el combinat que dirigeix Valero Rivera tindrà com a rival a partir de les set de la tarda a Algèria a Madrid.
URI:https://www.llagosta.cat/actualitat/noticies/antonio-garcia-comenca-dema-amb-espanya-el-campionat-del-mon-contra-algeria.html
CLASS:PUBLIC
END:VEVENT
END:VCALENDAR
