BEGIN:VCALENDAR
VERSION:2.0
CALSCALE:GREGORIAN
PRODID:-//Diputació de Barcelona//DibaCMS//EN
BEGIN:VEVENT
UID:5701
DTSTAMP:20260423T093435
DTSTART:20130109T000000
DTEND:20140109T000000
SUMMARY:Comencen les obres d'urbanització de la plaça de la Concòrdia
LOCATION:
METHOD:PUBLISH
X-WR-CALNAME:llagosta@llagosta.cat
X-WR-TIMEZONE:Europe/Madrid
DESCRIPTION:Ja han començat les obres d'urbanització de la plaça de la Concòrdia. Aquesta actuació comprèn, entre d'altres, l'enderroc de les actuals jardineres, la renovació del paviment de la plaça, la instal·lació de nou mobiliari urbà, la creació d'una nova zona de jocs infantils i el canvi de les estructures d'accés a l'aparcament per unes més modernes.
URI:https://www.llagosta.cat/actualitat/noticies/comencen-les-obres-durbanitzacio-de-la-placa-de-la-concordia.html
CLASS:PUBLIC
END:VEVENT
END:VCALENDAR
