BEGIN:VCALENDAR
VERSION:2.0
CALSCALE:GREGORIAN
PRODID:-//Diputació de Barcelona//DibaCMS//EN
BEGIN:VEVENT
UID:5700
DTSTAMP:20260422T124253
DTSTART:20130109T000000
DTEND:20140109T000000
SUMMARY:El comerç Came-3 de la Llagosta posa en marxa una iniciativa solidària
LOCATION:
METHOD:PUBLISH
X-WR-CALNAME:llagosta@llagosta.cat
X-WR-TIMEZONE:Europe/Madrid
DESCRIPTION:L'establiment de cuines i banys Came-3 ha posat un marxa una campanya solidària sota el nom de '13 by Came-3. El comerç aportarà el 0,7% dels ingressos per reformes a entitats socials de la Llagosta i aplicarà descomptes a gent gran i persones amb discapacitat que necessitin reformar els seus banys.
URI:https://www.llagosta.cat/actualitat/noticies/el-comerc-came-3-de-la-llagosta-posa-en-marxa-una-iniciativa-solidaria.html
CLASS:PUBLIC
END:VEVENT
END:VCALENDAR
