BEGIN:VCALENDAR
VERSION:2.0
CALSCALE:GREGORIAN
PRODID:-//Diputació de Barcelona//DibaCMS//EN
BEGIN:VEVENT
UID:5699
DTSTAMP:20260422T215357
DTSTART:20130109T000000
DTEND:20140109T000000
SUMMARY:L'Ajuntament de la Llagosta posa en marxa la seva pàgina a Facebook
LOCATION:
METHOD:PUBLISH
X-WR-CALNAME:llagosta@llagosta.cat
X-WR-TIMEZONE:Europe/Madrid
DESCRIPTION:L'Ajuntament de la Llagosta ha estrenat pàgina a la xarxa social Facebook on es poden trobar les darreres informacions i novetats sobre l'activitat municipal. A l'adreça www.facebook.com/AjuntamentdelaLlagosta també es poden consultar els actes que organitza el Consistori i els que promouen les entitats de la nostra localitat. 
URI:https://www.llagosta.cat/actualitat/noticies/lajuntament-de-la-llagosta-posa-en-marxa-la-seva-pagina-a-facebook.html
CLASS:PUBLIC
END:VEVENT
END:VCALENDAR
