BEGIN:VCALENDAR
VERSION:2.0
CALSCALE:GREGORIAN
PRODID:-//Diputació de Barcelona//DibaCMS//EN
BEGIN:VEVENT
UID:5698
DTSTAMP:20260423T033845
DTSTART:20130109T000000
DTEND:20140109T000000
SUMMARY:La Concòrdia empata a Cervera i suma quatre jornades seguides sense guanyar
LOCATION:
METHOD:PUBLISH
X-WR-CALNAME:llagosta@llagosta.cat
X-WR-TIMEZONE:Europe/Madrid
DESCRIPTION:El Club Deportivo La Concòrdia va empatar divendres a quatre gols a la pista del Cervera i ja suma quatre enfrontaments seguits sense guanyar. El partit corresponia a la darrera jornada de l'any 2012. La Concòrdia va demanar el seu ajornament perquè no disposava de jugadores suficients.
URI:https://www.llagosta.cat/actualitat/noticies/la-concordia-empata-a-cervera-i-suma-quatre-jornades-seguides-sense-guanyar.html
CLASS:PUBLIC
END:VEVENT
END:VCALENDAR
