BEGIN:VCALENDAR
VERSION:2.0
CALSCALE:GREGORIAN
PRODID:-//Diputació de Barcelona//DibaCMS//EN
BEGIN:VEVENT
UID:5697
DTSTAMP:20260423T100059
DTSTART:20130108T000000
DTEND:20140108T000000
SUMMARY:Dos nous projectes a desenvolupar pels municipis de l'Eix de la riera de Caldes
LOCATION:
METHOD:PUBLISH
X-WR-CALNAME:llagosta@llagosta.cat
X-WR-TIMEZONE:Europe/Madrid
DESCRIPTION:Els ajuntaments dels municipis de l'Eix de la riera de Caldes, entre els quals es troba la Llagosta, posaran en marxa aquest any dos nous projectes per promoure l'activitat econòmica del territori. Plataforma de desenvolupament del vehicle elèctric de la riera de Caldes i Logis riera de Caldes, desenvolupament integral de logística són els plans en els quals es treballarà a partir d'ara.
URI:https://www.llagosta.cat/actualitat/noticies/dos-nous-projectes-a-desenvolupar-pels-municipis-de-leix-de-la-riera-de-caldes.html
CLASS:PUBLIC
END:VEVENT
END:VCALENDAR
