BEGIN:VCALENDAR
VERSION:2.0
CALSCALE:GREGORIAN
PRODID:-//Diputació de Barcelona//DibaCMS//EN
BEGIN:VEVENT
UID:5696
DTSTAMP:20260422T142750
DTSTART:20130108T000000
DTEND:20140104T000000
SUMMARY:Balanç positiu dels primers Jocs Nadalencs d'Atletisme de la Llagosta
LOCATION:
METHOD:PUBLISH
X-WR-CALNAME:llagosta@llagosta.cat
X-WR-TIMEZONE:Europe/Madrid
DESCRIPTION:El Club Esportiu Fondistes de la Llagosta i l'AMPA de l'Escola Gilpe han fet avui un balanç positiu dels primers Jocs Nadalencs d'Atletisme. Una cinquantena d'infants van prendre part a les diferents disciplines disputades el 29 de desembre al Parc Popular.
URI:https://www.llagosta.cat/actualitat/noticies/balanc-positiu-dels-primers-jocs-nadalencs-datletisme-de-la-llagosta.html
CLASS:PUBLIC
END:VEVENT
END:VCALENDAR
