BEGIN:VCALENDAR
VERSION:2.0
CALSCALE:GREGORIAN
PRODID:-//Diputació de Barcelona//DibaCMS//EN
BEGIN:VEVENT
UID:5695
DTSTAMP:20260423T013843
DTSTART:20130108T000000
DTEND:20140108T000000
SUMMARY:El Viejas Glorias jugarà al camp del líder, el Lares, en el primer partit de l'any 2013
LOCATION:
METHOD:PUBLISH
X-WR-CALNAME:llagosta@llagosta.cat
X-WR-TIMEZONE:Europe/Madrid
DESCRIPTION:El Club Deportivo Viejas Glorias torna a la competició el proper cap de setmana després del descans per les festes de Nadal. Els llagostencs visitaran el camp del líder, el Lares.
URI:https://www.llagosta.cat/actualitat/noticies/el-viejas-glorias-jugara-al-camp-del-lider-el-lares-en-el-primer-partit-de-lany-2013.html
CLASS:PUBLIC
END:VEVENT
END:VCALENDAR
