BEGIN:VCALENDAR
VERSION:2.0
CALSCALE:GREGORIAN
PRODID:-//Diputació de Barcelona//DibaCMS//EN
BEGIN:VEVENT
UID:5694
DTSTAMP:20260422T212752
DTSTART:20130107T000000
DTEND:20140107T000000
SUMMARY:Obert el període d'inscripcions per participar als nous tallers per a la gent gran
LOCATION:
METHOD:PUBLISH
X-WR-CALNAME:llagosta@llagosta.cat
X-WR-TIMEZONE:Europe/Madrid
DESCRIPTION:L'Ajuntament de la Llagosta ha obert el termini d'inscripcions per als nous tallers per a la gent gran que es desenvolupen al Casal d'Avis. Un taller d'escriptura i un altre de lectura són les noves propostes. 
URI:https://www.llagosta.cat/actualitat/noticies/obert-el-periode-dinscripcions-per-participar-als-nous-tallers-per-a-la-gent-gran.html
CLASS:PUBLIC
END:VEVENT
END:VCALENDAR
