BEGIN:VCALENDAR
VERSION:2.0
CALSCALE:GREGORIAN
PRODID:-//Diputació de Barcelona//DibaCMS//EN
BEGIN:VEVENT
UID:5693
DTSTAMP:20260423T033858
DTSTART:20130107T000000
DTEND:20140107T000000
SUMMARY:La Unión Llagostense torna a la competició desplaçant-se a la pista del Ripoll
LOCATION:
METHOD:PUBLISH
X-WR-CALNAME:llagosta@llagosta.cat
X-WR-TIMEZONE:Europe/Madrid
DESCRIPTION:El Fútbol Sala Unión Llagostense iniciarà l'any 2013 jugant a la pista del Ripoll. El partit es presenta molt disputat ja que només un punt separa els dos conjunts. Els llagostencs són segons, amb 25, mentre que els de la capital del Ripollès són tercers, amb 24.
URI:https://www.llagosta.cat/actualitat/noticies/la-union-llagostense-torna-a-la-competicio-desplacant-se-a-la-pista-del-ripoll.html
CLASS:PUBLIC
END:VEVENT
END:VCALENDAR
