BEGIN:VCALENDAR
VERSION:2.0
CALSCALE:GREGORIAN
PRODID:-//Diputació de Barcelona//DibaCMS//EN
BEGIN:VEVENT
UID:5692
DTSTAMP:20260423T172137
DTSTART:20130107T000000
DTEND:20140107T000000
SUMMARY:Bon balanç de la programació d'actes de Nadal, Cap d'Anys i Reis a la Llagosta
LOCATION:
METHOD:PUBLISH
X-WR-CALNAME:llagosta@llagosta.cat
X-WR-TIMEZONE:Europe/Madrid
DESCRIPTION:L'Ajuntament de la Llagosta ha fet avui un primer balanç positiu del desenvolupament dels actes de la programació de les festes de Nadal, Cap d'Any i Reis. Durant un mes, la nostra localitat ha acollit tot un seguit d'activitats per a tots els públics, organitzades per entitats i pel propi Ajuntament.
URI:https://www.llagosta.cat/actualitat/noticies/bon-balanc-de-la-programacio-dactes-de-nadal-cap-danys-i-reis-a-la-llagosta.html
CLASS:PUBLIC
END:VEVENT
END:VCALENDAR
