BEGIN:VCALENDAR
VERSION:2.0
CALSCALE:GREGORIAN
PRODID:-//Diputació de Barcelona//DibaCMS//EN
BEGIN:VEVENT
UID:5691
DTSTAMP:20260424T125724
DTSTART:20130107T000000
DTEND:20140107T000000
SUMMARY:Els Reis Mags porten a la Llagosta molts regals i un missatge de solidaritat i igualtat
LOCATION:
METHOD:PUBLISH
X-WR-CALNAME:llagosta@llagosta.cat
X-WR-TIMEZONE:Europe/Madrid
DESCRIPTION:Els Reis Mags d'Orient van portar dissabte a la Llagosta molts regals i un missatge de pau, igualtat i solidaritat. Melcior, Gaspar i Baltasar també van desitjar que la situació millori durant aquest 2013, especialment per a aquells que ho estan passant més malament. 
URI:https://www.llagosta.cat/actualitat/noticies/els-reis-mags-porten-a-la-llagosta-molts-regals-i-un-missatge-de-solidaritat-i-igualtat.html
CLASS:PUBLIC
END:VEVENT
END:VCALENDAR
