BEGIN:VCALENDAR
VERSION:2.0
CALSCALE:GREGORIAN
PRODID:-//Diputació de Barcelona//DibaCMS//EN
BEGIN:VEVENT
UID:5690
DTSTAMP:20260423T071922
DTSTART:20130104T000000
DTEND:20140104T000000
SUMMARY:Demà, a les 12 del migdia, es farà un sorteig de Reis al Mercat Municipal de la Llagosta
LOCATION:
METHOD:PUBLISH
X-WR-CALNAME:llagosta@llagosta.cat
X-WR-TIMEZONE:Europe/Madrid
DESCRIPTION:El Mercat Municipal de la Llagosta farà demà, a partir de les 12 del migdia, un sorteig de Reis. Així acabarà la programació d'actes que han portat a terme durant aquestes dades els concessionaris del Mercat Municipal amb el lema Nadal al Mercat de la Llagosta.
URI:https://www.llagosta.cat/actualitat/noticies/dema-a-les-12-del-migdia-es-fara-un-sorteig-de-reis-al-mercat-municipal-de-la-llagosta.html
CLASS:PUBLIC
END:VEVENT
END:VCALENDAR
