BEGIN:VCALENDAR
VERSION:2.0
CALSCALE:GREGORIAN
PRODID:-//Diputació de Barcelona//DibaCMS//EN
BEGIN:VEVENT
UID:5689
DTSTAMP:20260422T160052
DTSTART:20130104T000000
DTEND:20140104T000000
SUMMARY:Avui es podrà veure al Centre Cultural la pel·lícula Lorax en busca de la trúfula perduda
LOCATION:
METHOD:PUBLISH
X-WR-CALNAME:llagosta@llagosta.cat
X-WR-TIMEZONE:Europe/Madrid
DESCRIPTION:El Centre Cultural acollirà aquesta tarda, a partir de les 17 hores, la projecció de la pel·lícula Lorax en busca de la trúfula perduda. L'activitat és organitzada per l'Ajuntament de la Llagosta i servirà per posar el punt final als actes infantils que des de dimecres s'han desenvolupat al Centre Cultural.
URI:https://www.llagosta.cat/actualitat/noticies/avui-es-podra-veure-al-centre-cultural-la-pellicula-lorax-en-busca-de-la-trufula-perduda.html
CLASS:PUBLIC
END:VEVENT
END:VCALENDAR
