BEGIN:VCALENDAR
VERSION:2.0
CALSCALE:GREGORIAN
PRODID:-//Diputació de Barcelona//DibaCMS//EN
BEGIN:VEVENT
UID:5688
DTSTAMP:20260422T175417
DTSTART:20130104T000000
DTEND:20140104T000000
SUMMARY:La Cavalcada de Reis començarà a les sis de la tarda i presenta novetats importants
LOCATION:
METHOD:PUBLISH
X-WR-CALNAME:llagosta@llagosta.cat
X-WR-TIMEZONE:Europe/Madrid
DESCRIPTION:L'Ajuntament de la Llagosta ha preparat per a demà una Cavalcada de Reis amb novetats importants. El recorregut començarà a les sis de la tarda des del carrer de l'Estació, al costat de l'Escola Bressol Municipal Cucutras. La Cavalcada es farà sense aturades i, a les set, els Reis d'Orient arribaran a la plaça d'Antoni Baqué. Allà seran rebuts per l'alcalde, Alberto López. 
URI:https://www.llagosta.cat/actualitat/noticies/la-cavalcada-de-reis-comencara-a-les-sis-de-la-tarda-i-presenta-novetats-importants.html
CLASS:PUBLIC
END:VEVENT
END:VCALENDAR
