BEGIN:VCALENDAR
VERSION:2.0
CALSCALE:GREGORIAN
PRODID:-//Diputació de Barcelona//DibaCMS//EN
BEGIN:VEVENT
UID:5687
DTSTAMP:20260423T095559
DTSTART:20130103T000000
DTEND:20140103T000000
SUMMARY:Avui i demà es recolliran cartes per als Reis a la Fundació Agrària i Cultural
LOCATION:
METHOD:PUBLISH
X-WR-CALNAME:llagosta@llagosta.cat
X-WR-TIMEZONE:Europe/Madrid
DESCRIPTION:Els nens i nenes de la Llagosta podran lliurar la carta per als Reis d'Orient avui i demà a la seu de la Fundació Agrària i Cultural, situada al número 27 del carrer de Sant Josep. Un enviat dels Reis Mags hi serà entre les 18 i les 20 hores en un acte organitzat per l'Agrupació Sardanista i la Fundació Agrària i Cultural amb la col·laboració de l'Ajuntament. 
URI:https://www.llagosta.cat/actualitat/noticies/avui-i-dema-es-recolliran-cartes-per-als-reis-a-la-fundacio-agraria-i-cultural.html
CLASS:PUBLIC
END:VEVENT
END:VCALENDAR
