BEGIN:VCALENDAR
VERSION:2.0
CALSCALE:GREGORIAN
PRODID:-//Diputació de Barcelona//DibaCMS//EN
BEGIN:VEVENT
UID:5686
DTSTAMP:20260423T031604
DTSTART:20130103T000000
DTEND:20140103T000000
SUMMARY:El Joventut Handbol La Llagosta fa fins divendres un campus amb 45 participants
LOCATION:
METHOD:PUBLISH
X-WR-CALNAME:llagosta@llagosta.cat
X-WR-TIMEZONE:Europe/Madrid
DESCRIPTION:El Joventut Handbol La Llagosta organitza des d'ahir i fins divendres un campus adreçat a infants d'entre sis i onze anys. L'activitat es desenvolupa al Poliesportiu Riera Seca de 9 a 13.00 hores i combina els entrenaments d'handbol amb altres jocs i esports alternatius. Un total de 45 nens i nenes participen en aquest campus, amb el qual es pretén fomentar la pràctica de l'handbol. 
URI:https://www.llagosta.cat/actualitat/noticies/el-joventut-handbol-la-llagosta-fa-fins-divendres-un-campus-amb-45-participants.html
CLASS:PUBLIC
END:VEVENT
END:VCALENDAR
