BEGIN:VCALENDAR
VERSION:2.0
CALSCALE:GREGORIAN
PRODID:-//Diputació de Barcelona//DibaCMS//EN
BEGIN:VEVENT
UID:5685
DTSTAMP:20260422T124045
DTSTART:20130102T000000
DTEND:20140102T000000
SUMMARY:Demà, tindrà lloc la tercera sessió d'Un poble de conte a La Troupe Cafè
LOCATION:
METHOD:PUBLISH
X-WR-CALNAME:llagosta@llagosta.cat
X-WR-TIMEZONE:Europe/Madrid
DESCRIPTION:Les AMPA de les escoles Joan Maragall i Gilpe oferiran demà la tercera sessió d'Un poble de conte. Aquesta activitat està adreçada a infants de deu a dotze anys aproximadament. En aquesta ocasió l'acte es desenvoluparà al Restaurant La Troupe Cafè. 
URI:https://www.llagosta.cat/actualitat/noticies/dema-tindra-lloc-la-tercera-sessio-dun-poble-de-conte-a-la-troupe-cafe.html
CLASS:PUBLIC
END:VEVENT
END:VCALENDAR
