BEGIN:VCALENDAR
VERSION:2.0
CALSCALE:GREGORIAN
PRODID:-//Diputació de Barcelona//DibaCMS//EN
BEGIN:VEVENT
UID:5684
DTSTAMP:20260423T080724
DTSTART:20130102T000000
DTEND:20140102T000000
SUMMARY:Una avaria deixa sense llum 1.800 abonats de Fecsa-Endesa de la Llagosta
LOCATION:
METHOD:PUBLISH
X-WR-CALNAME:llagosta@llagosta.cat
X-WR-TIMEZONE:Europe/Madrid
DESCRIPTION:Uns 1.800 abonats de la companyia Fecsa-Endesa de la Llagosta s'han vist afectats aquest matí per un tall en el subministrament elèctric a causa d'una avaria en una línia de mitja tensió. L'incident s'ha produït a tres quarts de cinc del matí. Des d'aleshores, tècnics de Fecsa-Endesa treballen per restablir la normalitat del servei. Des de dos quarts de set, ha anat tornant la llum de forma progressiva a les zones afectades. 
URI:https://www.llagosta.cat/actualitat/noticies/una-avaria-deixa-sense-llum-1800-abonats-de-fecsa-endesa-de-la-llagosta.html
CLASS:PUBLIC
END:VEVENT
END:VCALENDAR
