BEGIN:VCALENDAR
VERSION:2.0
CALSCALE:GREGORIAN
PRODID:-//Diputació de Barcelona//DibaCMS//EN
BEGIN:VEVENT
UID:5683
DTSTAMP:20260423T164659
DTSTART:20130102T000000
DTEND:20140102T000000
SUMMARY:El Viejas Glorias i el Sant Fost van disputar diumenge un partit en homenatge a Juan Martínez
LOCATION:
METHOD:PUBLISH
X-WR-CALNAME:llagosta@llagosta.cat
X-WR-TIMEZONE:Europe/Madrid
DESCRIPTION:El Club Deportivo Viejas Glorias va guanyar diumenge per 2 a 4 el partit que va disputar al camp del Sant Fost per homenatjar Juan Martínez, l'expresident de l'entitat mort recentment. Al partit, hi van assistir la dona, la filla i un nét de Martínez. Aquest últim va ser l'encarregat de fer la sacada d'honor. Juan Martínez va estar vinculat a les dues entitats, que van voler homenatjar-lo i expressar el seu suport a la família amb la celebració del partit. 
URI:https://www.llagosta.cat/actualitat/noticies/el-viejas-glorias-i-el-sant-fost-van-disputar-diumenge-un-partit-en-homenatge-a-juan-martinez.html
CLASS:PUBLIC
END:VEVENT
END:VCALENDAR
