BEGIN:VCALENDAR
VERSION:2.0
CALSCALE:GREGORIAN
PRODID:-//Diputació de Barcelona//DibaCMS//EN
BEGIN:VEVENT
UID:5682
DTSTAMP:20260422T142154
DTSTART:20130102T000000
DTEND:20140102T000000
SUMMARY:El Centre Cultural acull entre avui i divendres un espai d'activitats infantils
LOCATION:
METHOD:PUBLISH
X-WR-CALNAME:llagosta@llagosta.cat
X-WR-TIMEZONE:Europe/Madrid
DESCRIPTION:L'Ajuntament de la Llagosta organitzarà entre avui i divendres diverses activitats per a nens i nenes i les seves famílies al Centre Cultural en el marc de la programació d'actes de Nadal. En concret, s'hi podrà gaudir de tallers, ludoteca i un espai psicomotriu. 
URI:https://www.llagosta.cat/actualitat/noticies/el-centre-cultural-acull-entre-avui-i-divendres-un-espai-dactivitats-infantils.html
CLASS:PUBLIC
END:VEVENT
END:VCALENDAR
