BEGIN:VCALENDAR
VERSION:2.0
CALSCALE:GREGORIAN
PRODID:-//Diputació de Barcelona//DibaCMS//EN
BEGIN:VEVENT
UID:5681
DTSTAMP:20260422T193211
DTSTART:20121228T000000
DTEND:20131228T000000
SUMMARY:Les entitats de la Llagosta han aconseguit més de 6.000 euros per a la Marató de TV3
LOCATION:
METHOD:PUBLISH
X-WR-CALNAME:llagosta@llagosta.cat
X-WR-TIMEZONE:Europe/Madrid
DESCRIPTION:Els actes organitzats a la Llagosta per recaptar fons per a la Marató de TV3 han aconseguit recollir més de 6.000 euros. Al llarg de dos mesos, 23 entitats s'han mobilitzat per recaptar diners que serviran per ajudar a la investigació per la cura del càncer.
URI:https://www.llagosta.cat/actualitat/noticies/les-entitats-de-la-llagosta-han-aconseguit-mes-de-6000-euros-per-a-la-marato-de-tv3.html
CLASS:PUBLIC
END:VEVENT
END:VCALENDAR
