BEGIN:VCALENDAR
VERSION:2.0
CALSCALE:GREGORIAN
PRODID:-//Diputació de Barcelona//DibaCMS//EN
BEGIN:VEVENT
UID:5680
DTSTAMP:20260423T111237
DTSTART:20121228T000000
DTEND:20131228T000000
SUMMARY:Vuit gossos de la Llagosta es podran adoptar a la primera Fira d'adopció de HelpGuau
LOCATION:
METHOD:PUBLISH
X-WR-CALNAME:llagosta@llagosta.cat
X-WR-TIMEZONE:Europe/Madrid
DESCRIPTION:Les persones interessades en adoptar un gos tindran la possibilitat de visitar la primera Fira d'adopció que organitza aquest dissabte HelpGuau, l'empresa que acull els animals abandonats que estan sota la custòdia de l'Ajuntament de la Llagosta.
URI:https://www.llagosta.cat/actualitat/noticies/vuit-gossos-de-la-llagosta-es-podran-adoptar-a-la-primera-fira-dadopcio-de-helpguau.html
CLASS:PUBLIC
END:VEVENT
END:VCALENDAR
