BEGIN:VCALENDAR
VERSION:2.0
CALSCALE:GREGORIAN
PRODID:-//Diputació de Barcelona//DibaCMS//EN
BEGIN:VEVENT
UID:5679
DTSTAMP:20260423T034111
DTSTART:20121228T000000
DTEND:20131228T000000
SUMMARY:Els joves menors d'edat celebraran el seu Cap d'Any particular
LOCATION:
METHOD:PUBLISH
X-WR-CALNAME:llagosta@llagosta.cat
X-WR-TIMEZONE:Europe/Madrid
DESCRIPTION:El Centre Cultural serà l'escenari aquest diumenge de la Fiesta del Pavo, adreçada a joves de 12 a 17 anys. La proposta festiva vol ser un avançament de la celebració de Cap d'Any per als joves menors de la nostra localitat.
URI:https://www.llagosta.cat/actualitat/noticies/els-joves-menors-dedat-celebraran-el-seu-cap-dany-particular.html
CLASS:PUBLIC
END:VEVENT
END:VCALENDAR
