BEGIN:VCALENDAR
VERSION:2.0
CALSCALE:GREGORIAN
PRODID:-//Diputació de Barcelona//DibaCMS//EN
BEGIN:VEVENT
UID:5678
DTSTAMP:20260423T092020
DTSTART:20121228T000000
DTEND:20131228T000000
SUMMARY:El Parc Popular acollirà demà els primers Jocs Nadalencs d'Atletisme
LOCATION:
METHOD:PUBLISH
X-WR-CALNAME:llagosta@llagosta.cat
X-WR-TIMEZONE:Europe/Madrid
DESCRIPTION:El Club Esportiu Fondistes de la Llagosta i l'AMPA de l'Escola Gilpe organitzen demà els primers Jocs Nadalencs d'Atletisme. L'activitat es farà al Parc Popular de 10 a 14 hores i està adreçada a infants de P3 fins a sisè de primària.
URI:https://www.llagosta.cat/actualitat/noticies/el-parc-popular-acollira-dema-els-primers-jocs-nadalencs-datletisme.html
CLASS:PUBLIC
END:VEVENT
END:VCALENDAR
