BEGIN:VCALENDAR
VERSION:2.0
CALSCALE:GREGORIAN
PRODID:-//Diputació de Barcelona//DibaCMS//EN
BEGIN:VEVENT
UID:5677
DTSTAMP:20260422T212645
DTSTART:20121228T000000
DTEND:20131208T000000
SUMMARY:La Llagosta + Activa farà aquest dissabte un nou concert solidari
LOCATION:
METHOD:PUBLISH
X-WR-CALNAME:llagosta@llagosta.cat
X-WR-TIMEZONE:Europe/Madrid
DESCRIPTION:El col·lectiu La Llagosta + Activa organitza demà un concert solidari sota el lema Al nadal cap nen sense regal. L'activitat vol servir per col·laborar amb la campanya de Creu Roja i fer possible que els Reis Mags d'Orient arribin a tots els infants de la nostra localitat. El recital es desenvoluparà a l'antic Centre Cultural del carrer de la Florida a partir de les 17.30 hores.
URI:https://www.llagosta.cat/actualitat/noticies/la-llagosta--activa-fara-aquest-dissabte-un-nou-concert-solidari.html
CLASS:PUBLIC
END:VEVENT
END:VCALENDAR
