BEGIN:VCALENDAR
VERSION:2.0
CALSCALE:GREGORIAN
PRODID:-//Diputació de Barcelona//DibaCMS//EN
BEGIN:VEVENT
UID:5676
DTSTAMP:20260422T193333
DTSTART:20121228T000000
DTEND:20131228T000000
SUMMARY:El partit d'homenatge a l'expresident del CD Viejas Glorias es jugarà diumenge
LOCATION:
METHOD:PUBLISH
X-WR-CALNAME:llagosta@llagosta.cat
X-WR-TIMEZONE:Europe/Madrid
DESCRIPTION:El Club Deportivo Viejas Glorias jugarà finalment el partit homenatge a l'expresident, Juan Martínez, diumenge a les 12 hores. Problemes d'agenda del Sant Fost han fet ajornar l'enfrontament, que s'havia de disputar dissabte al vespre.
URI:https://www.llagosta.cat/actualitat/noticies/el-partit-dhomenatge-a-lexpresident-del-cd-viejas-glorias-es-jugara-diumenge.html
CLASS:PUBLIC
END:VEVENT
END:VCALENDAR
