BEGIN:VCALENDAR
VERSION:2.0
CALSCALE:GREGORIAN
PRODID:-//Diputació de Barcelona//DibaCMS//EN
BEGIN:VEVENT
UID:5675
DTSTAMP:20260423T031130
DTSTART:20121228T000000
DTEND:20131228T000000
SUMMARY:La Llagosta celebrarà l'entrada del 2013 amb diversos actes
LOCATION:
METHOD:PUBLISH
X-WR-CALNAME:llagosta@llagosta.cat
X-WR-TIMEZONE:Europe/Madrid
DESCRIPTION:La Llagosta donarà la benvinguda al 2013 amb una festa al Centre Cultural. Aquest any, l'Ajuntament ha preparat una disco mòbil per a tots els públics seguida d'una sessió de Djs adreçada als més joves. La festa començarà després de les campanades de Cap d'Any.
URI:https://www.llagosta.cat/actualitat/noticies/la-llagosta-celebrara-lentrada-del-2013-amb-diversos-actes.html
CLASS:PUBLIC
END:VEVENT
END:VCALENDAR
