BEGIN:VCALENDAR
VERSION:2.0
CALSCALE:GREGORIAN
PRODID:-//Diputació de Barcelona//DibaCMS//EN
BEGIN:VEVENT
UID:5674
DTSTAMP:20260423T110851
DTSTART:20121227T000000
DTEND:20131227T000000
SUMMARY:Demà, noves propostes de contes per a infants
LOCATION:
METHOD:PUBLISH
X-WR-CALNAME:llagosta@llagosta.cat
X-WR-TIMEZONE:Europe/Madrid
DESCRIPTION:Demà al matí, els infants de la Llagosta podran assistir a dues propostes que tindran els contes com a protagonistes. A les onze al Mercat Municipal i a les dotze al Centre Cultural.
URI:https://www.llagosta.cat/actualitat/noticies/dema-noves-propostes-de-contes-per-a-infants.html
CLASS:PUBLIC
END:VEVENT
END:VCALENDAR
