BEGIN:VCALENDAR
VERSION:2.0
CALSCALE:GREGORIAN
PRODID:-//Diputació de Barcelona//DibaCMS//EN
BEGIN:VEVENT
UID:5673
DTSTAMP:20260423T073827
DTSTART:20121227T000000
DTEND:20131227T000000
SUMMARY:La urbanització de la plaça de la Concòrdia començarà després de festes
LOCATION:
METHOD:PUBLISH
X-WR-CALNAME:llagosta@llagosta.cat
X-WR-TIMEZONE:Europe/Madrid
DESCRIPTION:L'Ajuntament de la Llagosta ha adjudicat les obres d'urbanització de la plaça de la Concòrdia a l'empresa XEDEX SA per un import de 556.000 euros. Els treballs començaran després de festes.
URI:https://www.llagosta.cat/actualitat/noticies/la-urbanitzacio-de-la-placa-de-la-concordia-comencara-despres-de-festes.html
CLASS:PUBLIC
END:VEVENT
END:VCALENDAR
