BEGIN:VCALENDAR
VERSION:2.0
CALSCALE:GREGORIAN
PRODID:-//Diputació de Barcelona//DibaCMS//EN
BEGIN:VEVENT
UID:5672
DTSTAMP:20260423T162751
DTSTART:20121227T000000
DTEND:20131227T000000
SUMMARY:CiU estudiarà la situació creada després del trencament del seu grup municipal
LOCATION:
METHOD:PUBLISH
X-WR-CALNAME:llagosta@llagosta.cat
X-WR-TIMEZONE:Europe/Madrid
DESCRIPTION:Al ple celebrat dijous passat es va evidenciar la ruptura del grup municipal de Convergència i Unió. Tot i que oficialment José Luis Gutiérrez no ha passat encara a ser regidor no adscrit, el dos edils del grup van votar de forma diferent a molts punts de l'ordre del dia. La portaveu convergent, Mireia Egea, va declarar després del ple, sentir-se sorpresa per la nova situació.
URI:https://www.llagosta.cat/actualitat/noticies/ciu-estudiara-la-situacio-creada-despres-del-trencament-del-seu-grup-municipal.html
CLASS:PUBLIC
END:VEVENT
END:VCALENDAR
