BEGIN:VCALENDAR
VERSION:2.0
CALSCALE:GREGORIAN
PRODID:-//Diputació de Barcelona//DibaCMS//EN
BEGIN:VEVENT
UID:5671
DTSTAMP:20260422T235143
DTSTART:20121227T000000
DTEND:20131227T000000
SUMMARY:El Viejas Glorias guanya el Joan XXII (4 a 1) i jugarà un amistós en homenatge a Juan Martínez
LOCATION:
METHOD:PUBLISH
X-WR-CALNAME:llagosta@llagosta.cat
X-WR-TIMEZONE:Europe/Madrid
DESCRIPTION:El Club Deportivo Viejas Glorias va guanyar la darrera jornada disputada el Joan XXIII per 4 a 1. Els de la nostra localitat acabaran l'any jugant un partit amistós a Sant Fost, en honor a l'expresident del club llagostenc, Juan Martínez, mort recentment.
URI:https://www.llagosta.cat/actualitat/noticies/el-viejas-glorias-guanya-el-joan-xxii-4-a-1-i-jugara-un-amistos-en-homenatge-a-juan-martinez.html
CLASS:PUBLIC
END:VEVENT
END:VCALENDAR
