BEGIN:VCALENDAR
VERSION:2.0
CALSCALE:GREGORIAN
PRODID:-//Diputació de Barcelona//DibaCMS//EN
BEGIN:VEVENT
UID:5670
DTSTAMP:20260422T215621
DTSTART:20121221T000000
DTEND:20131221T000000
SUMMARY:La programació de Nadal dels propers dies presenta propostes infantils i solidàries
LOCATION:
METHOD:PUBLISH
X-WR-CALNAME:llagosta@llagosta.cat
X-WR-TIMEZONE:Europe/Madrid
DESCRIPTION:A més del Pessebre, el Quinto i el Festival flamenc de Nadal, durant tots aquests dies la Llagosta acull altres activitats de la programació de Nadal Cap d'Any i Reis preparada per l'Ajuntament i entitats de la nostra localitat. Un torneig de futbol sala solidari, contes per a infants, inflables, el tradicional Fer cagar el Tió i l'actuació de pallassos al Mercat Municipal són la resta de les propostes.
URI:https://www.llagosta.cat/actualitat/noticies/la-programacio-de-nadal-dels-propers-dies-presenta-propostes-infantils-i-solidaries.html
CLASS:PUBLIC
END:VEVENT
END:VCALENDAR
