BEGIN:VCALENDAR
VERSION:2.0
CALSCALE:GREGORIAN
PRODID:-//Diputació de Barcelona//DibaCMS//EN
BEGIN:VEVENT
UID:5669
DTSTAMP:20260423T072021
DTSTART:20121221T000000
DTEND:20131221T000000
SUMMARY:El Casal d'Avis torna a guanyar el Concurs de pessebres organitzat per l'Ajuntament
LOCATION:
METHOD:PUBLISH
X-WR-CALNAME:llagosta@llagosta.cat
X-WR-TIMEZONE:Europe/Madrid
DESCRIPTION:Aquest any han tornat a guanyar el Concurs de pessebres organitzat per l'Ajuntament de la Llagosta els mateixos participants que l'any passat.  El Casal d'Avis ha guanyat novament el primer premi, dotat amb 200 euros. El Casal d'Avis va guanyar també les edicions de 2010 i 2011.
URI:https://www.llagosta.cat/actualitat/noticies/el-casal-davis-torna-a-guanyar-el-concurs-de-pessebres-organitzat-per-lajuntament.html
CLASS:PUBLIC
END:VEVENT
END:VCALENDAR
