BEGIN:VCALENDAR
VERSION:2.0
CALSCALE:GREGORIAN
PRODID:-//Diputació de Barcelona//DibaCMS//EN
BEGIN:VEVENT
UID:5668
DTSTAMP:20260423T015628
DTSTART:20121221T000000
DTEND:20131221T000000
SUMMARY:El Quinto de Nadal de la Llagosta +Activa es farà demà a la tarda
LOCATION:
METHOD:PUBLISH
X-WR-CALNAME:llagosta@llagosta.cat
X-WR-TIMEZONE:Europe/Madrid
DESCRIPTION:El col·lectiu La Llagosta + Activa organitza demà un Quinto de Nadal. El Quinto de Nadal és un esdeveniment social i tradicional nadalenc típic de moltes comarques catalanes. L'acte tindrà lloc a partir de dos quarts de cinc de la tarda al Bar Restaurant los Candiles.
URI:https://www.llagosta.cat/actualitat/noticies/el-quinto-de-nadal-de-la-llagosta-activa-es-fara-dema-a-la-tarda.html
CLASS:PUBLIC
END:VEVENT
END:VCALENDAR
