BEGIN:VCALENDAR
VERSION:2.0
CALSCALE:GREGORIAN
PRODID:-//Diputació de Barcelona//DibaCMS//EN
BEGIN:VEVENT
UID:5667
DTSTAMP:20260422T212818
DTSTART:20121221T000000
DTEND:20131221T000000
SUMMARY:El Pessebre Vivent de la Llagosta s'escenificarà diumenge al Parc Popular
LOCATION:
METHOD:PUBLISH
X-WR-CALNAME:llagosta@llagosta.cat
X-WR-TIMEZONE:Europe/Madrid
DESCRIPTION:El Grup Pessebre Vivent de la Llagosta oferirà diumenge la vint-i-novena edició del Pessebre Vivent. L'acte començarà a dos quarts de set de la tarda al Parc Popular. Com és habitual en els darrers anys, la Murga farà una botifarrada popular. 
URI:https://www.llagosta.cat/actualitat/noticies/el-pessebre-vivent-de-la-llagosta-sescenificara-diumenge-al-parc-popular.html
CLASS:PUBLIC
END:VEVENT
END:VCALENDAR
