BEGIN:VCALENDAR
VERSION:2.0
CALSCALE:GREGORIAN
PRODID:-//Diputació de Barcelona//DibaCMS//EN
BEGIN:VEVENT
UID:5666
DTSTAMP:20260423T033715
DTSTART:20121221T000000
DTEND:20131220T000000
SUMMARY:El Centre Cultural acull dissabte el Festival flamenc de Nadal de la Casa de Andalucía
LOCATION:
METHOD:PUBLISH
X-WR-CALNAME:llagosta@llagosta.cat
X-WR-TIMEZONE:Europe/Madrid
DESCRIPTION:La Casa de Andalucía de la Llagosta celebrarà demà el seu tradicional Festival flamenc de Nadal. L'acte tindrà lloc a partir de dos quarts de vuit del vespre al Centre Cultural.
URI:https://www.llagosta.cat/actualitat/noticies/el-centre-cultural-acull-dissabte-el-festival-flamenc-de-nadal-de-la-casa-de-andalucia.html
CLASS:PUBLIC
END:VEVENT
END:VCALENDAR
