BEGIN:VCALENDAR
VERSION:2.0
CALSCALE:GREGORIAN
PRODID:-//Diputació de Barcelona//DibaCMS//EN
BEGIN:VEVENT
UID:5665
DTSTAMP:20260422T235242
DTSTART:20121221T000000
DTEND:20131221T000000
SUMMARY:El sènior de l'EBC la Llagosta acaba l'any amb una victòria contra l'Ametlla (69-67)
LOCATION:
METHOD:PUBLISH
X-WR-CALNAME:llagosta@llagosta.cat
X-WR-TIMEZONE:Europe/Madrid
DESCRIPTION:L'Esportiu Bàsquet Club de la Llagosta va vèncer el cap de setmana passat per un ajustat 69 a 67 l'Ametlla. Els de la nostra localitat acaben l'any en setena posició, amb set victòries i sis derrotes.
URI:https://www.llagosta.cat/actualitat/noticies/el-senior-de-lebc-la-llagosta-acaba-lany-amb-una-victoria-contra-lametlla-69-67.html
CLASS:PUBLIC
END:VEVENT
END:VCALENDAR
