BEGIN:VCALENDAR
VERSION:2.0
CALSCALE:GREGORIAN
PRODID:-//Diputació de Barcelona//DibaCMS//EN
BEGIN:VEVENT
UID:5664
DTSTAMP:20260423T111316
DTSTART:20121221T000000
DTEND:20131221T000000
SUMMARY:El ple aprova un increment del 2,9 % en el rebut de l'aigua amb la divisió del grup municipal de CiU
LOCATION:
METHOD:PUBLISH
X-WR-CALNAME:llagosta@llagosta.cat
X-WR-TIMEZONE:Europe/Madrid
DESCRIPTION:El ple extraordinari celebrat ahir va aprovar un augment del 2,9 % en el rebut de l'aigua per l'any que ve, d'acord amb l'IPC del mes de novembre. El punt va comptar amb els vots favorables d'Iniciativa – Esquerra Unida, Ciutadans  Progressistes i el regidor José Luis Gutiérrez. El Partit dels Socialistes, la regidora de Convergència, Mireia Egea, i el Partit Popular es van abstenir.
URI:https://www.llagosta.cat/actualitat/noticies/el-ple-aprova-un-increment-del-29--en-el-rebut-de-laigua-amb-la-divisio-del-grup-municipal-de-ciu.html
CLASS:PUBLIC
END:VEVENT
END:VCALENDAR
