BEGIN:VCALENDAR
VERSION:2.0
CALSCALE:GREGORIAN
PRODID:-//Diputació de Barcelona//DibaCMS//EN
BEGIN:VEVENT
UID:5663
DTSTAMP:20260423T050646
DTSTART:20121220T000000
DTEND:20131220T000000
SUMMARY:Aquest matí s'ha celebrat la dotzena edició de la Ràdio Marató Solidària
LOCATION:
METHOD:PUBLISH
X-WR-CALNAME:llagosta@llagosta.cat
X-WR-TIMEZONE:Europe/Madrid
DESCRIPTION:Ràdio la Llagosta i Creu Roja Mollet–Baix Vallès han portat a terme aquest matí la dotzena edició de la Ràdio Marató Solidària per tal de recollir joguines per a nens de famílies amb escassos recursos econòmics. 
URI:https://www.llagosta.cat/actualitat/noticies/aquest-mati-sha-celebrat-la-dotzena-edicio-de-la-radio-marato-solidaria.html
CLASS:PUBLIC
END:VEVENT
END:VCALENDAR
