BEGIN:VCALENDAR
VERSION:2.0
CALSCALE:GREGORIAN
PRODID:-//Diputació de Barcelona//DibaCMS//EN
BEGIN:VEVENT
UID:5662
DTSTAMP:20260423T051729
DTSTART:20121220T000000
DTEND:20131220T000000
SUMMARY:L'equip de govern municipal proposa incrementar un 2,9% el rebut de l'aigua l'any que ve
LOCATION:
METHOD:PUBLISH
X-WR-CALNAME:llagosta@llagosta.cat
X-WR-TIMEZONE:Europe/Madrid
DESCRIPTION:L'equip de govern municipal presentarà aquesta tarda, durant un ple extraordinari que començarà a les set, una proposta per tal que el rebut de l'aigua s'apugi l'any que ve un 2,9%, d'acord amb l'IPC del mes de novembre. Els responsables municipals han estat negociant durant les darreres setmanes amb Sorea, que és l'empresa que té la concessió del subministrament d'aigua potable a la Llagosta i que proposava una pujada del 19% de la taxa. 
URI:https://www.llagosta.cat/actualitat/noticies/lequip-de-govern-municipal-proposa-incrementar-un-29-el-rebut-de-laigua-lany-que-ve.html
CLASS:PUBLIC
END:VEVENT
END:VCALENDAR
