BEGIN:VCALENDAR
VERSION:2.0
CALSCALE:GREGORIAN
PRODID:-//Diputació de Barcelona//DibaCMS//EN
BEGIN:VEVENT
UID:5661
DTSTAMP:20260423T051408
DTSTART:20121220T000000
DTEND:20131210T000000
SUMMARY:Antonio García, convocat per disputar amb Espanya el Campionat del Món
LOCATION:
METHOD:PUBLISH
X-WR-CALNAME:llagosta@llagosta.cat
X-WR-TIMEZONE:Europe/Madrid
DESCRIPTION:El llagostenc Antonio García ha estat convocat pel seleccionador espanyol absolut d'handbol, Valero Rivera, per tal de disputar el Campionat del Món 2013, que se celebrarà a Espanya de l'11 al 27 de gener.
URI:https://www.llagosta.cat/actualitat/noticies/antonio-garcia-convocat-per-disputar-amb-espanya-el-campionat-del-mon.html
CLASS:PUBLIC
END:VEVENT
END:VCALENDAR
