BEGIN:VCALENDAR
VERSION:2.0
CALSCALE:GREGORIAN
PRODID:-//Diputació de Barcelona//DibaCMS//EN
BEGIN:VEVENT
UID:5660
DTSTAMP:20260423T182947
DTSTART:20121220T000000
DTEND:20131220T000000
SUMMARY:La Concòrdia encaixa la primera derrota de la temporada però manté el liderat
LOCATION:
METHOD:PUBLISH
X-WR-CALNAME:llagosta@llagosta.cat
X-WR-TIMEZONE:Europe/Madrid
DESCRIPTION:El Club Deportivo La Concòrdia va patir la jornada passada la primera derrota de la temporada en caure a casa contra l'Hospitalet Bellsport per 1 a 2. Tot i aquesta relliscada, les de la nostra localitat es mantenen com a líders.
URI:https://www.llagosta.cat/actualitat/noticies/la-concordia-encaixa-la-primera-derrota-de-la-temporada-pero-mante-el-liderat.html
CLASS:PUBLIC
END:VEVENT
END:VCALENDAR
