BEGIN:VCALENDAR
VERSION:2.0
CALSCALE:GREGORIAN
PRODID:-//Diputació de Barcelona//DibaCMS//EN
BEGIN:VEVENT
UID:5659
DTSTAMP:20260423T031442
DTSTART:20121220T000000
DTEND:20131220T000000
SUMMARY:El Joventut Handbol La Llagosta acaba la primera volta del campionat com a líder
LOCATION:
METHOD:PUBLISH
X-WR-CALNAME:llagosta@llagosta.cat
X-WR-TIMEZONE:Europe/Madrid
DESCRIPTION:El Joventut Handbol La Llagosta va vèncer el cap de setmana passat a la pista del Sant Sadurní per 24 a 35. Els de la nostra localitat descansaran la propera jornada i ja no jugaran fins al 19 de gener.
URI:https://www.llagosta.cat/actualitat/noticies/el-joventut-handbol-la-llagosta-acaba-la-primera-volta-del-campionat-com-a-lider.html
CLASS:PUBLIC
END:VEVENT
END:VCALENDAR
