BEGIN:VCALENDAR
VERSION:2.0
CALSCALE:GREGORIAN
PRODID:-//Diputació de Barcelona//DibaCMS//EN
BEGIN:VEVENT
UID:5658
DTSTAMP:20260422T232550
DTSTART:20121220T000000
DTEND:20131220T000000
SUMMARY:El Mercat Municipal de la Llagosta prepara diverses activitats per celebrar el Nadal
LOCATION:
METHOD:PUBLISH
X-WR-CALNAME:llagosta@llagosta.cat
X-WR-TIMEZONE:Europe/Madrid
DESCRIPTION:Els paradistes del Mercat Municipal de la Llagosta han preparat una sèrie d'activitats per tal que els seus clients gaudeixin del Nadal a aquest equipament. El dia 22 de desembre, a partir de les onze del matí, hi haurà actuació de pallassos.
URI:https://www.llagosta.cat/actualitat/noticies/el-mercat-municipal-de-la-llagosta-prepara-diverses-activitats-per-celebrar-el-nadal.html
CLASS:PUBLIC
END:VEVENT
END:VCALENDAR
