BEGIN:VCALENDAR
VERSION:2.0
CALSCALE:GREGORIAN
PRODID:-//Diputació de Barcelona//DibaCMS//EN
BEGIN:VEVENT
UID:5657
DTSTAMP:20260422T213810
DTSTART:20121220T000000
DTEND:20131220T000000
SUMMARY:El Centre Cultural acollirà demà el Concert de Nadal de l'Escola Municipal de Música
LOCATION:
METHOD:PUBLISH
X-WR-CALNAME:llagosta@llagosta.cat
X-WR-TIMEZONE:Europe/Madrid
DESCRIPTION:L'Escola Municipal de Música de la Llagosta oferirà demà el tradicional Concert de Nadal. L'activitat tindrà lloc a partir de dos quarts de vuit del vespre al Centre Cultural. 
URI:https://www.llagosta.cat/actualitat/noticies/el-centre-cultural-acollira-dema-el-concert-de-nadal-de-lescola-municipal-de-musica.html
CLASS:PUBLIC
END:VEVENT
END:VCALENDAR
